BEGIN:VCALENDAR
VERSION:2.0
PRODID:www.ardagger.gv.at
X-PUBLISHED-TTL:P1D
BEGIN:VEVENT
UID:69e75fa9eacaa
DTSTART:20250822T083000
SEQUENCE:0
TRANSP:OPAQUE
DTEND:20250822T083000
LOCATION:Ardagger Markt - Marktplatz
SUMMARY:Verpackungssafari zu Gast beim ArdaggerWochenmarkt
CLASS:PUBLIC
DTSTAMP:20260421T132945Z
END:VEVENT
END:VCALENDAR