BEGIN:VCALENDAR
VERSION:2.0
PRODID:www.ardagger.gv.at
X-PUBLISHED-TTL:P1D
BEGIN:VEVENT
UID:69e75fa999efd
DTSTART:20250822T170000
SEQUENCE:0
TRANSP:OPAQUE
DTEND:20250822T180000
LOCATION:Donauwellenpark
SUMMARY:**Kinderferienspiel**: Radfahrtechniktraining
CLASS:PUBLIC
DESCRIPTION:Mitzubringen:funktionstüchtiges \nFahrrad\, Helm\, Handschuhe\
 , geeignete \nKleidung & Schuhe\, \nGetränk\, kleine JauseFür Kinder ab 
 6 Jahre\nAnmeldung:bis 21.8.2025 unter\nT: 0664/103 10 95
DTSTAMP:20260421T132945Z
END:VEVENT
END:VCALENDAR