BEGIN:VCALENDAR
VERSION:2.0
PRODID:behamberg.gv.at
X-PUBLISHED-TTL:P1D
BEGIN:VEVENT
UID:69ecf505d8d12
DTSTART:20251123T160000
SEQUENCE:0
TRANSP:OPAQUE
DTEND:20251123T190000
LOCATION:Mehrzweckhalle Behamberg
SUMMARY:Buona Sera Mrs. Campbell
CLASS:PUBLIC
DESCRIPTION:Nach dem Zweiten Weltkrieg wurden sie von San Forino abkommandi
 ert: die amerikanischen Soldaten Walter\, Phil und Justin. Alle drei waren
  bei Carla einquartiert. Kurz danach war Carla schwanger. Aber von wem? Ei
 n Kind\, kein Ehemann\, dafür drei Väter? Carla kassierte seither jeden 
 Monat drei Schecks\, machte sich nach Tochter Gias Geburt zur trauernden W
 itwe des tapferen Offiziers Campbell\, den es so wenig gab wie seinen Name
 n. Seither heißt es: Buona Sera\, Mrs. Campell! Nach zwanzig Jahren komme
 n die drei „Väter“ auf Besuch und wollen „ihre“ Tochter kennenler
 nen\, natürlich ohne das Wissen mitgereister Ehefrauen und quengelnder Ki
 nderschar. Jetzt ist die ehrwürdige Mrs. Campbell nicht nur ihrer Tochter
  eine Erklärung schuldig…
DTSTAMP:20260425T190821Z
END:VEVENT
END:VCALENDAR