BEGIN:VCALENDAR
VERSION:2.0
PRODID:www.ardagger.gv.at
X-PUBLISHED-TTL:P1D
BEGIN:VEVENT
UID:69e75f398f91b
DTSTART:20250824T094500
SEQUENCE:0
TRANSP:OPAQUE
DTEND:20250824T180000
LOCATION:bei der Jagdkapelle und beim Pfarrheim Ardagger Markt
SUMMARY:Jubiläumsfest 30 Jahre Jagdkapelle Ardagger Markt
CLASS:PUBLIC
DESCRIPTION:Messe bei der Jagdkapelle:bei Schlechtwetter in der Kircheansch
 l. Frühschoppen beim Pfarrheim Ardagger Markt    
DTSTAMP:20260421T132753Z
END:VEVENT
END:VCALENDAR