BEGIN:VCALENDAR
VERSION:2.0
PRODID:behamberg.gv.at
X-PUBLISHED-TTL:P1D
BEGIN:VEVENT
UID:69e7f7bce3b0d
DTSTART:20250415T140000
SEQUENCE:0
TRANSP:OPAQUE
DTEND:20250415T180000
LOCATION:Gemeindeamt Behamberg
SUMMARY:Bildungsberatung für Erwachsene
CLASS:PUBLIC
DESCRIPTION:Am 15.04.2025 erhalten Sie am Gemeindeamt Behamberg im Zeitraum
  von 14:00 bis 18:00 Uhr jede Menge an Informationen über finanzielle Fö
 rderungen und Beihilfen und werden individuell bei der Berufswahl oder ber
 uflichen Veränderung begleitet. In einem kostenlosen Informations- und Be
 ratungsgespräch werden Fragen aller geklärt\, die sich beruflich oder pr
 ivat weiterentwickeln oder verändern möchten wie zum Beispiel: Wie kann 
 ich meinen Lehrabschluss nachholen? Wo bekomme ich eine Förderung für me
 inen EDV-Kurs? Was ist der Unterschied zwischen Berufreifeprüfung und Stu
 dienberechtigungsprüfung? Selbstverständlich sind diese Beratungsgesprä
 che völlig kostenlos\, streng vertraulich und unverbindlich. Am besten ve
 reinbaren Sie gleich Ihren persönlichen Beratungstermin unter 0699 122066
 22 beziehungsweise online unter www.bildungsberatung-noe.at.
DTSTAMP:20260422T001836Z
END:VEVENT
END:VCALENDAR