BEGIN:VCALENDAR
VERSION:2.0
PRODID:behamberg.gv.at
X-PUBLISHED-TTL:P1D
BEGIN:VEVENT
UID:69e6ef157bcca
DTSTART:20250412T200000
SEQUENCE:0
TRANSP:OPAQUE
DTEND:20250413T180000
LOCATION:Mehrzweckhalle Behamberg
SUMMARY:Frühjahrskonzert
CLASS:PUBLIC
DESCRIPTION:Der Musikverein Behamberg lädt am Samstag\, den 12.03.2025\, u
 m 20:00 Uhr sowie Sonntag\, den 13.03.2025\, um 16:00 Uhr zum Frühjahrsko
 nzert in die Mehrzweckhalle Behamberg. Eintritt gegen freiwillige Spende. 
 Auf zahlreiche Besucherinnen und Besucher freut sich der MV Behamberg!
DTSTAMP:20260421T052925Z
END:VEVENT
END:VCALENDAR