BEGIN:VCALENDAR
VERSION:2.0
PRODID:oberndorf-noe.at
X-PUBLISHED-TTL:P1D
BEGIN:VEVENT
UID:69e4db0bf3e4a
DTSTART:20251119T140000
SEQUENCE:0
TRANSP:OPAQUE
DTEND:20251119T140000
LOCATION:Mostheuriger Wurzenberger
SUMMARY:Tanznachmittag
CLASS:PUBLIC
DESCRIPTION:&nbsp\; &nbsp\;Musik mit Harry
DTSTAMP:20260419T153923Z
END:VEVENT
END:VCALENDAR