BEGIN:VCALENDAR
VERSION:2.0
PRODID:behamberg.gv.at
X-PUBLISHED-TTL:P1D
BEGIN:VEVENT
UID:69e5caf583ff6
DTSTART:20250322T180000
SEQUENCE:0
TRANSP:OPAQUE
DTEND:20250322T230000
LOCATION:Mostviertelhalle Haag
SUMMARY:Bezirksmostkost
CLASS:PUBLIC
DESCRIPTION:Die Bezirksmostkost findet heuer am 22.03.2025 mit Beginn um 18
 :00 Uhr in der Mostviertelhalle Haag statt. Dabei sind alle Gemeinden unse
 rer Region vertreten und präsentieren ihre besten Möste. Die Prämierung
  und Verleihung des Mostgütesiegel erfolgt im Beisein der Bürgermeisteri
 nnen und Bürgermeister der Kleinregion Mostviertel Ursprung und unserer M
 ostprinzessin. Kommen Sie vorbei und genießen Sie die neu prämierten Mö
 ste bei guter Jause und Musik. Im Anschluss lädt die Bezirkslandjugend zu
 m Mostclubbing ein.
DTSTAMP:20260420T084301Z
END:VEVENT
END:VCALENDAR