BEGIN:VCALENDAR
VERSION:2.0
PRODID:strengberg.gv.at
X-PUBLISHED-TTL:P1D
BEGIN:VEVENT
UID:69e93dac0743d
DTSTART:20250509T140000
SEQUENCE:0
TRANSP:OPAQUE
DTEND:20250509T170000
LOCATION:Posthof
SUMMARY:Frühlingspflanzenmarkt
CLASS:PUBLIC
DESCRIPTION:Jeder ist willkommen\, seine überzähligen Pflanzen anzubieten
  (freiw. Spenden). Sie können sich auch Pflanzen holen\, ohne welche anzu
 bieten.
DTSTAMP:20260422T232916Z
END:VEVENT
END:VCALENDAR