BEGIN:VCALENDAR
VERSION:2.0
PRODID:steinakirchen-forst.gv.at
X-PUBLISHED-TTL:P1D
BEGIN:VEVENT
UID:69e5b1b8a8586
DTSTART:20250719T000000
SEQUENCE:0
TRANSP:OPAQUE
DTEND:20250719T000000
SUMMARY:Wanderung
CLASS:PUBLIC
DTSTAMP:20260420T065520Z
END:VEVENT
END:VCALENDAR