BEGIN:VCALENDAR
VERSION:2.0
PRODID:reinsberg.gv.at
X-PUBLISHED-TTL:P1D
BEGIN:VEVENT
UID:69e7a4b27c871
DTSTART:20250613T193000
SEQUENCE:0
TRANSP:OPAQUE
DTEND:20250613T193000
LOCATION:Burgarena Reinsberg
SUMMARY:Martina Schwarzmann
CLASS:PUBLIC
DESCRIPTION:Ein schönes Leben haben\, das ist doch ganz einfach. Da bäckt
  man einen Kuchen und danach isst man ihn auf. Zwischendrin wird noch ein 
 bisschen was erlebt und ein bisschen gearbeitet. So schaut der Tag von Ma
 rtina Schwarzmann aus. Ganz einfach.Wenn in der Zeitung nichts Schönes d
 rinsteht\, dann liest man sie einfach nicht. Und hartnäckige Flecken in d
 er Wäsche entfernt man am besten mit der Schere. Manchmal wird ein bissch
 en rumgeplärrt\, mal von den minderjährigen Mitbewohnern\, manchmal auch
  von den volljährigen Bewohnern des Bauernhofs\, der der Lebensmittelpunk
 t der Künstlerin\, einfachen Hausfrau und vierfachen Mutter ist.Möchte m
 an es ruhiger haben\, muss man nur das Richtige kochen. Denn wenn alle den
  Mund voll haben\, ist es mal ganz kurz leise. Nachts ist es auch so ganz 
 ruhig. Dann hört Martina im Bad\, wie sich die Silberfischerl über ihren
  Körper unterhalten.Wenn Martina nicht gerade ihre wilden Kinder bändigt
  oder ihrem Mann auf dem Acker hilft\, dann sitzt sie manchmal da und scha
 ut\, das ist auch schön. Denn wenn man gscheit schaut\, dann sieht man im
 mer was\, worüber man mal dringend ein Lied schreiben sollte. So wie übe
 r den eingetrockneten Frosch\, aus dem sie mit Hilfe einer Schnur einen Te
 ebeutel bastelt: falls der Storch mal vorbeikommt\, damit man ihm was Pass
 endes anbieten kann.Manchmal klingelts bei Martina\, dann steht meist der 
 Sinn des Lebens vor der Tür. Der sucht schon seit Jahren nach ihr. Aber s
 ie macht nie auf. Soll er ruhig weitersuchen.Wenn Ihr Martina sucht\, dann
  findet ihr sie auf der Bühne eures Vertrauens. Also kommt in Scharen\, l
 auscht und lasst es euch gut gehen. Das habt ihr euch verdient!
DTSTAMP:20260421T182418Z
END:VEVENT
END:VCALENDAR