BEGIN:VCALENDAR
VERSION:2.0
PRODID:oberndorf-noe.at
X-PUBLISHED-TTL:P1D
BEGIN:VEVENT
UID:69e84c3d964e5
DTSTART:20250130T193000
SEQUENCE:0
TRANSP:OPAQUE
DTEND:20250130T193000
LOCATION:Pfarrsaal Oberndorf
SUMMARY:Bücher sind meine Welt!
CLASS:PUBLIC
DESCRIPTION:Lesung und Gespräch mit gemütlichem AusklangReferentin: Mag. 
 Marina ProkoppBeitrag: Freiwillige Spenden
DTSTAMP:20260422T061909Z
END:VEVENT
END:VCALENDAR