BEGIN:VCALENDAR
VERSION:2.0
PRODID:strengberg.gv.at
X-PUBLISHED-TTL:P1D
BEGIN:VEVENT
UID:69ec95f3ae5ac
DTSTART:20260529T000000
SEQUENCE:0
TRANSP:OPAQUE
DTEND:20260531T000000
SUMMARY:175 Jahre Trachtenkapelle Strengberg
CLASS:PUBLIC
DTSTAMP:20260425T122243Z
END:VEVENT
END:VCALENDAR