BEGIN:VCALENDAR
VERSION:2.0
PRODID:zeillern.gv.at
X-PUBLISHED-TTL:P1D
BEGIN:VEVENT
UID:69ea252c53070
DTSTART:20250531T160000
SEQUENCE:0
TRANSP:OPAQUE
DTEND:20250531T160000
LOCATION:ZEILLERN
SUMMARY:Grillabend  ÖKB
CLASS:PUBLIC
DTSTAMP:20260423T155700Z
END:VEVENT
END:VCALENDAR