BEGIN:VCALENDAR
VERSION:2.0
PRODID:wallsee-sindelburg.gv.at
X-PUBLISHED-TTL:P1D
BEGIN:VEVENT
UID:69e8e43187c0e
DTSTART:20250426T170000
SEQUENCE:0
TRANSP:OPAQUE
DTEND:20250426T180000
LOCATION:Pfarrkirche Maria Neustift
SUMMARY:Fußwallfahrt nach Maria Neustift - Wallfahrtsgottesdienst
CLASS:PUBLIC
DTSTAMP:20260422T170729Z
END:VEVENT
END:VCALENDAR