BEGIN:VCALENDAR
VERSION:2.0
PRODID:neuhofen-ybbs.at
X-PUBLISHED-TTL:P1D
BEGIN:VEVENT
UID:69e57aa709d92
DTSTART:20240802T133000
SEQUENCE:0
TRANSP:OPAQUE
DTEND:20240802T170000
LOCATION:Erde-Feuer-Garten
SUMMARY:Gesellschaftsspiele 
CLASS:PUBLIC
DESCRIPTION:Für Kinder von 7-12 Jahren
DTSTAMP:20260420T030023Z
END:VEVENT
END:VCALENDAR