BEGIN:VCALENDAR
VERSION:2.0
PRODID:oberndorf-noe.at
X-PUBLISHED-TTL:P1D
BEGIN:VEVENT
UID:69e520e29e2a8
DTSTART:20260815T210000
SEQUENCE:0
TRANSP:OPAQUE
DTEND:20260815T210000
LOCATION:Familie Schadenhofer
SUMMARY:Schloapfanparty
CLASS:PUBLIC
DTSTAMP:20260419T203722Z
END:VEVENT
END:VCALENDAR