BEGIN:VCALENDAR
VERSION:2.0
PRODID:ferschnitz.gv.at
X-PUBLISHED-TTL:P1D
BEGIN:VEVENT
UID:69e7ad2e9f5ff
DTSTART:20241028T000000
SEQUENCE:0
TRANSP:OPAQUE
DTEND:20241031T000000
LOCATION:Raiffeisenbank Ferschnitz
SUMMARY:Weltsparwoche
CLASS:PUBLIC
DTSTAMP:20260421T190030Z
END:VEVENT
END:VCALENDAR