BEGIN:VCALENDAR
VERSION:2.0
PRODID:st-pantaleon-erla.gv.at
X-PUBLISHED-TTL:P1D
BEGIN:VEVENT
UID:69eb6f80afbf4
DTSTART:20240525T170000
SEQUENCE:0
TRANSP:OPAQUE
DTEND:20240525T170000
SUMMARY:Heimspiel SC St. Pantaleon-Erla vs. Bad Kreuzen
CLASS:PUBLIC
DTSTAMP:20260424T152624Z
END:VEVENT
END:VCALENDAR