BEGIN:VCALENDAR
VERSION:2.0
PRODID:hollenstein-ybbs.gv.at
X-PUBLISHED-TTL:P1D
BEGIN:VEVENT
UID:69e5eee6cf736
DTSTART:20240331T200000
SEQUENCE:0
TRANSP:OPAQUE
DTEND:20240331T200000
LOCATION:Turnsaal MS/VS Hollenstein
SUMMARY:Theater Theatergruppe Hollenstein
CLASS:PUBLIC
DESCRIPTION:\n\nDie Theatergruppe Hollenstein lädt recht herzlich zum dies
 jährigen Stück \"aufzumfensterln.com\" ein. Wir freuen uns auf euren Bes
 uch!\n\n
DTSTAMP:20260420T111622Z
END:VEVENT
END:VCALENDAR