BEGIN:VCALENDAR
VERSION:2.0
PRODID:neustadtl.gv.at
X-PUBLISHED-TTL:P1D
BEGIN:VEVENT
UID:69e6267595e74
DTSTART:20241225T000000
SEQUENCE:0
TRANSP:OPAQUE
DTEND:20241225T030000
LOCATION:Pfarrkirche Neustadtl
SUMMARY:Christtag - Hl. Messe - Hochamt
CLASS:PUBLIC
DESCRIPTION:1. Messe: 8:00 UhrHochamt: 9:30 Uhr
DTSTAMP:20260420T151325Z
END:VEVENT
END:VCALENDAR