BEGIN:VCALENDAR
VERSION:2.0
PRODID:winklarn.gv.at
X-PUBLISHED-TTL:P1D
BEGIN:VEVENT
UID:69ebe16092669
DTSTART:20240913T180000
SEQUENCE:0
TRANSP:OPAQUE
DTEND:20240915T180000
LOCATION:Ort Winklarn
SUMMARY:50 Jahre Partnergemeinde Winklarn/NÖ mit Winklarn/Oberpfalz
CLASS:PUBLIC
DESCRIPTION:Die\nGemeindepartnerschaft zwischen Winklarn in der Oberpfalz u
 nd unserer Gemeinde\nwurde im Jahr 1974 gegründet. Da über viele Jahre d
 iese Freundschaft gewachsen ist und deshalb\nauch schon von mehreren Gener
 ationen diese Partnerschaft gelebt wird\, sind wir\nüberzeugt\, dass die 
 Zukunft unserer Verbindung gesichert ist. Eine lebendige\nGemeindepartners
 chaft macht Spaß und bereitet Freude.Bitte sobald als möglich anmelden!
DTSTAMP:20260424T233216Z
END:VEVENT
END:VCALENDAR