BEGIN:VCALENDAR
VERSION:2.0
PRODID:st-pantaleon-erla.gv.at
X-PUBLISHED-TTL:P1D
BEGIN:VEVENT
UID:69ecad1a98856
DTSTART:20241215T120000
SEQUENCE:0
TRANSP:OPAQUE
DTEND:20241215T120000
LOCATION:Landgasthof Winklehner
SUMMARY:Weihnachtsfeier
CLASS:PUBLIC
DTSTAMP:20260425T140130Z
END:VEVENT
END:VCALENDAR