BEGIN:VCALENDAR
VERSION:2.0
PRODID:st-georgen-ybbsfelde.gv.at
X-PUBLISHED-TTL:P1D
BEGIN:VEVENT
UID:69e914d0a77d7
DTSTART:20240413T100000
SEQUENCE:0
TRANSP:OPAQUE
DTEND:20240413T170000
LOCATION:Gewerbegebiet Hart
SUMMARY:St. Georgner Gewerbefest
CLASS:PUBLIC
DESCRIPTION:10 Uhr -&nbsp\;Eröffnung des St. Georg‘ner Gewerbefestes dur
 ch Landeshauptfrau Johanna Mikl-Leitner&nbsp\;mit anschließender Segnung 
 der neu gestalteten Gewerbestraße
DTSTAMP:20260422T203456Z
END:VEVENT
END:VCALENDAR