BEGIN:VCALENDAR
VERSION:2.0
PRODID:hollenstein-ybbs.gv.at
X-PUBLISHED-TTL:P1D
BEGIN:VEVENT
UID:69ecec138e11d
DTSTART:20240417T050000
SEQUENCE:0
TRANSP:OPAQUE
DTEND:20240417T180000
SUMMARY:Sperrmüllsammlung von der Liegenschaft
CLASS:PUBLIC
DESCRIPTION:Auch in diesem Jahr organisieren wir für Sie gemeinsam mit dem
  GDA Amstetten die Sperrmüllsammlung von Ihrer Liegenschaft.Nutzen Sie di
 eses tolle Service und melden Sie sich jederzeit an!
DTSTAMP:20260425T183011Z
END:VEVENT
END:VCALENDAR