BEGIN:VCALENDAR
VERSION:2.0
PRODID:gresten.gv.at
X-PUBLISHED-TTL:P1D
BEGIN:VEVENT
UID:69e8ea3aafee9
DTSTART:20240420T200000
SEQUENCE:0
TRANSP:OPAQUE
DTEND:20240420T220000
LOCATION:Kulturschmiede
SUMMARY:Maschuranz 
CLASS:PUBLIC
DESCRIPTION:\n\n\n\nNeben witzigen\, teils spitzzüngigen aber \nauch ernst
 en Texten\, verleiht die Stimme von \nMandana Nikou der Mostviertler Band\
 , \nbegleitet von Georg Grassberger und Franz \nSchaufler einen einzigarti
 gen Sound.\n\n\n\n
DTSTAMP:20260422T173314Z
END:VEVENT
END:VCALENDAR