BEGIN:VCALENDAR
VERSION:2.0
PRODID:ernsthofen.gv.at
X-PUBLISHED-TTL:P1D
BEGIN:VEVENT
UID:69e4deb91127e
DTSTART:20240908T090000
SEQUENCE:0
TRANSP:OPAQUE
DTEND:20240908T030000
LOCATION:Pfarrkirche Ernsthofen
SUMMARY:Familiengottesdienst \"Dirndlgwandsonntag\"
CLASS:PUBLIC
DTSTAMP:20260419T155505Z
END:VEVENT
END:VCALENDAR