BEGIN:VCALENDAR
VERSION:2.0
PRODID:oberndorf-noe.at
X-PUBLISHED-TTL:P1D
BEGIN:VEVENT
UID:69e5ec1e7f19d
DTSTART:20250307T193000
SEQUENCE:0
TRANSP:OPAQUE
DTEND:20250307T193000
LOCATION:Gemeindehaus - Mehrzweckraum
SUMMARY:Vortrag: Obst und Beeren im eigenen Garten
CLASS:PUBLIC
DESCRIPTION:Natur im Garten Vortrag
DTSTAMP:20260420T110430Z
END:VEVENT
END:VCALENDAR