BEGIN:VCALENDAR
VERSION:2.0
PRODID:steinakirchen-forst.gv.at
X-PUBLISHED-TTL:P1D
BEGIN:VEVENT
UID:69ed3461a4a88
DTSTART:20241225T000000
SEQUENCE:0
TRANSP:OPAQUE
DTEND:20241226T000000
SUMMARY:Weihnachtsbuffet
CLASS:PUBLIC
DTSTAMP:20260425T233841Z
END:VEVENT
END:VCALENDAR