BEGIN:VCALENDAR
VERSION:2.0
PRODID:www.ardagger.gv.at
X-PUBLISHED-TTL:P1D
BEGIN:VEVENT
UID:69e7894147887
DTSTART:20230801T100000
SEQUENCE:0
TRANSP:OPAQUE
DTEND:20230919T180000
LOCATION:MostBirnHaus
SUMMARY:\"Schöner Salat\" im Mostbirnhaus
CLASS:PUBLIC
DTSTAMP:20260421T162713Z
END:VEVENT
END:VCALENDAR