BEGIN:VCALENDAR
VERSION:2.0
PRODID:www.ardagger.gv.at
X-PUBLISHED-TTL:P1D
BEGIN:VEVENT
UID:69e4f59a31022
DTSTART:20231111T180000
SEQUENCE:0
TRANSP:OPAQUE
DTEND:20231111T210000
LOCATION:Gasthof Schiffsmeisterhaus
SUMMARY:Volksmusikabend aufgspüt & g‘sunga im Rahmen der Feierlichkeiten
  \"1200 Jahre Artagrum\"
CLASS:PUBLIC
DESCRIPTION:Die 6 MusikantInnen der Stifta Geigenmusi begeistern ihr Publi
 kum immer wieder mit Virtuosität\, ihrem unverkennbaren Sound sowie mit
  ihrer großen Freude und Begeisterung an der Musik. Sie musizieren gemei
 nsam mit der Bründlmusi aus dem bayrischen Wald. Alle Volksmusikfreunde
  sind herzlich zu einem besonderen Volksmusikabend eingeladen.Eintritt 
 frei!
DTSTAMP:20260419T173242Z
END:VEVENT
END:VCALENDAR