BEGIN:VCALENDAR
VERSION:2.0
PRODID:hollenstein-ybbs.gv.at
X-PUBLISHED-TTL:P1D
BEGIN:VEVENT
UID:69e746d5e731b
DTSTART:20231107T160000
SEQUENCE:0
TRANSP:OPAQUE
DTEND:20231107T190000
LOCATION:Vereinsheim Hollenstein
SUMMARY:Reparatur-Café November
CLASS:PUBLIC
DTSTAMP:20260421T114349Z
END:VEVENT
END:VCALENDAR