BEGIN:VCALENDAR
VERSION:2.0
PRODID:st-georgen-ybbsfelde.gv.at
X-PUBLISHED-TTL:P1D
BEGIN:VEVENT
UID:69e76d71051b5
DTSTART:20230402T100000
SEQUENCE:0
TRANSP:OPAQUE
DTEND:20230402T120000
LOCATION:Kirche
SUMMARY:Palmsonntag und Palmprozession
CLASS:PUBLIC
DTSTAMP:20260421T142833Z
END:VEVENT
END:VCALENDAR