BEGIN:VCALENDAR
VERSION:2.0
PRODID:zeillern.gv.at
X-PUBLISHED-TTL:P1D
BEGIN:VEVENT
UID:69eb57d8d1907
DTSTART:20230413T000000
SEQUENCE:0
TRANSP:OPAQUE
DTEND:20230416T000000
LOCATION:Schloss Hotel Zeillern
SUMMARY:Kulinarische Schmankerlreise
CLASS:PUBLIC
DESCRIPTION:13.04.2023 ab 18.00 Uhr&nbsp\;\"Rund um die Welt\"&nbsp\; Buffe
 t &amp\; Show14.04.2022 ab 18.00 Uhr&nbsp\;\n\n\"Rund um die Welt\"&nbsp\;
  Buffet &amp\; Show\n\n15.04.2022 ab 18.00 Uhr&nbsp\;\n\n\"Rund um die Wel
 t\"&nbsp\; Buffet &amp\; Show\n\n16.04.2022 ab 11.00 Uhr&nbsp\;&nbsp\;\n\n
 \"Rund um die Welt\"&nbsp\; Buffet&nbsp\;
DTSTAMP:20260424T134528Z
END:VEVENT
END:VCALENDAR