BEGIN:VCALENDAR
VERSION:2.0
PRODID:behamberg.gv.at
X-PUBLISHED-TTL:P1D
BEGIN:VEVENT
UID:69eae436a40b9
DTSTART:20221103T000000
SEQUENCE:0
TRANSP:OPAQUE
DTEND:20221103T000000
LOCATION:Gasthaus Hönigl
SUMMARY:Vortrag: Die Schilddrüse
CLASS:PUBLIC
DESCRIPTION:Die Schilddrüse ist eines der wichtigsten\, jedoch gleichzeiti
 g immer noch eines der unterschätztesten Quellen für das Wohlbefinden bz
 w. Unwohlsein beim Menschen. Als Hormondrüse\, finden zahlreiche Erkranku
 ngen in der Schilddrüse ihren Ausgangspunkt\, die zu teilsheftigen Störu
 ngen im Hormonstoffwechsel führen können. Erfahren Sie in diesem Vortrag
  Details über die außergewöhnlichen Funktionen der Schilddrüse und die
  damit verbundenen positiven sowie negativen Auswirkungen auf unsere Stimm
 ung\, unserenBiorhythmus\, unseren Hormonhaushalt\, unsere Körpertemperat
 ur\, Schlafqualität und sogar auf unser Gewicht.Der Vortrag findet am 3. 
 November 2022um 19.00 Uhr im Gasthaus Hönigl statt.&nbsp\;Vortragender is
 t Christian Aumüller\, ehrenamtlicher Präsident des Instituts MediSan. E
 intritt: Freiwillige Spenden.
DTSTAMP:20260424T053206Z
END:VEVENT
END:VCALENDAR