BEGIN:VCALENDAR
VERSION:2.0
PRODID:allhartsberg.gv.at
X-PUBLISHED-TTL:P1D
BEGIN:VEVENT
UID:69e7e722d8040
DTSTART:20221026T090000
SEQUENCE:0
TRANSP:OPAQUE
DTEND:20221026T090000
SUMMARY:Fitmarsch der Union 
CLASS:PUBLIC
DTSTAMP:20260421T230746Z
END:VEVENT
END:VCALENDAR