BEGIN:VCALENDAR
VERSION:2.0
PRODID:gresten.gv.at
X-PUBLISHED-TTL:P1D
BEGIN:VEVENT
UID:69e5d3bb8037f
DTSTART:20220520T193000
SEQUENCE:0
TRANSP:OPAQUE
DTEND:20220520T210000
LOCATION:Kulturschmiede
SUMMARY:Musical der MMS Gresten  „Let´s talk! Teenie Talk“ 
CLASS:PUBLIC
DESCRIPTION:Mit großer Vorfreude kündigt die Musik-Mittelschule Gresten d
 as Musical&nbsp\;&nbsp\; „Let´s talk! Teenie Talk“ an. Rund 80 Schül
 erinnen und Schüler des Musik-Schwerpunkts stehen auf der Bühne und prä
 sentieren sich schauspielerisch\, sängerisch\, tänzerisch und auf ihren 
 Instrumenten.Der Inhalt und die Songtexte wurden vom Musikteam aufbauend a
 uf Ideen und Vorschlägen der Schülerinnen und Schüler geschrieben.Wie d
 er Titel bereits verrät\, geht es um eine Talkshow\, in der die Teenies z
 u Wort kommen. Aktuelle Themen wie Flucht insInternet\, Schönheitsideale\
 , Pubertät\, Terminstress\, Geschlechterrollen und natürlich der Klimawa
 ndel schwirren durch die Köpfe und möchten diskutiert werden. Am Ende ze
 igt sich\, dass die Jugend von heute viel tragen muss und wir Erwachsenen 
 am Zug sind\, den Wert unserer Mutter Erde zu erkennen.
DTSTAMP:20260420T092027Z
END:VEVENT
END:VCALENDAR