BEGIN:VCALENDAR
VERSION:2.0
PRODID:ferschnitz.gv.at
X-PUBLISHED-TTL:P1D
BEGIN:VEVENT
UID:69e82766f3aa4
DTSTART:20221231T163000
SEQUENCE:0
TRANSP:OPAQUE
DTEND:20221231T163000
LOCATION:Pfarrkirche
SUMMARY:Jahresrückblick-Gottesdienst
CLASS:PUBLIC
DTSTAMP:20260422T034158Z
END:VEVENT
END:VCALENDAR