BEGIN:VCALENDAR
VERSION:2.0
PRODID:st-georgen-ybbsfelde.gv.at
X-PUBLISHED-TTL:P1D
BEGIN:VEVENT
UID:69e7e24b75d78
DTSTART:20221224T220000
SEQUENCE:0
TRANSP:OPAQUE
DTEND:20221224T230000
LOCATION:Pfarrkirche
SUMMARY:Weihnachtsmette
CLASS:PUBLIC
DTSTAMP:20260421T224707Z
END:VEVENT
END:VCALENDAR