BEGIN:VCALENDAR
VERSION:2.0
PRODID:st-georgen-ybbsfelde.gv.at
X-PUBLISHED-TTL:P1D
BEGIN:VEVENT
UID:69eb3c321e915
DTSTART:20230512T140000
SEQUENCE:0
TRANSP:OPAQUE
DTEND:20230512T140000
LOCATION:Seniorentageszentrum
SUMMARY:10 Jahre Seniorentageszentrum
CLASS:PUBLIC
DESCRIPTION:Aus einer Idee\, wurde ein Pilotprojekt\, jetzt ein Fixpunkt in
  unserer Gemeinde\, in unserer Region\, das Seniorentageszentrum St. Georg
 en am Ybbsfelde.\n\nLasst uns gemeinsam unserer 10-jähriges Jubiläum fei
 ern!Am Freitag\, 12. Mai 2023\num 14 Uhr in der Marktstraße 19\, \n3304 S
 t. Georgen/Y.PROGRAMM:\n- Rückblick 10 Jahre Seniorentageszentrum\n- Lied
  Senioren\n- Festansprachen\n- Lied Senioren- Worte der Obfrau BGM i. R. L
 iselotte Kashofer- Lied SeniorenDanach laden wir bei Speisen und Getränke
 n sehr herzlich zum gemütlichen Beisammen sein. Die „Eder´s“ Hannerl
  und Sepp aus Kollmitzberg werden uns dabei musikalisch begleiten.\n\nMode
 ration: Leitung DGKP Karin Ebner
DTSTAMP:20260424T114730Z
END:VEVENT
END:VCALENDAR