BEGIN:VCALENDAR
VERSION:2.0
PRODID:gresten.gv.at
X-PUBLISHED-TTL:P1D
BEGIN:VEVENT
UID:69e8100c3d730
DTSTART:20211221T180000
SEQUENCE:0
TRANSP:OPAQUE
DTEND:20211221T200000
LOCATION:Gresten Vorplatz Kulturschmiede
SUMMARY:Walking Treff
CLASS:PUBLIC
DESCRIPTION:Treffpunkt: Vorplatz Kulturschmiedefindet bei jeder Witterung s
 tatt - unter Einhaltung der jeweils geltenden Corona-Regeln!Katharina Scha
 rner (Naturfreunde) Tel.: 0650/9990346    katharina.scharner@aon.at
DTSTAMP:20260422T020220Z
END:VEVENT
END:VCALENDAR