BEGIN:VCALENDAR
VERSION:2.0
PRODID:st-georgen-ybbsfelde.gv.at
X-PUBLISHED-TTL:P1D
BEGIN:VEVENT
UID:69ebcc3eb0495
DTSTART:20211231T150000
SEQUENCE:0
TRANSP:OPAQUE
DTEND:20211231T160000
LOCATION:Pfarrkirche
SUMMARY:Altjahresandacht
CLASS:PUBLIC
DTSTAMP:20260424T220206Z
END:VEVENT
END:VCALENDAR