BEGIN:VCALENDAR
VERSION:2.0
PRODID:st-georgen-ybbsfelde.gv.at
X-PUBLISHED-TTL:P1D
BEGIN:VEVENT
UID:69e56cd6174cb
DTSTART:20210606T060000
SEQUENCE:0
TRANSP:OPAQUE
DTEND:20210606T140000
LOCATION:FF Sicherheitszentrum
SUMMARY:Leistungsbewerbe Amstetten-Land
CLASS:PUBLIC
DTSTAMP:20260420T020126Z
END:VEVENT
END:VCALENDAR