BEGIN:VCALENDAR
VERSION:2.0
PRODID:www.ardagger.gv.at
X-PUBLISHED-TTL:P1D
BEGIN:VEVENT
UID:69e5eee67cd3a
DTSTART:20210906T180000
SEQUENCE:0
TRANSP:OPAQUE
DTEND:20210906T220000
LOCATION:Sitzungssaal am Gemeindeamt
SUMMARY:Start: Erste-Hilfe-Kurs für Notfälle im Säuglings- & Kleinkindal
 ter
CLASS:PUBLIC
DESCRIPTION:Dieser Erste-Hilfe-Kurs richtet sich an Personen\, welche in de
 r Familie oder auch beruflich mit Säuglingen und Kindernzu tun haben. Nac
 h diesem 8-Stunden-Kurs wissen Sie\, wie Sie sich verhalten müssen\, wenn
  sich Ihr Kind verschluckt\, welche Gefahren lauern\, was bei Blutungen\, 
 Bewusstlosigkeit\, Verbrennungen\, usw. zu tun ist und können rasch Hilfe
  herbeiholen und im Notfall richtig reagieren. Es ist ein interaktiver Vor
 trag mit praktischen Übungen.Anmeldung: am Gemeindeamt bis 27. August 202
 1
DTSTAMP:20260420T111622Z
END:VEVENT
END:VCALENDAR