BEGIN:VCALENDAR
VERSION:2.0
PRODID:gresten.gv.at
X-PUBLISHED-TTL:P1D
BEGIN:VEVENT
UID:69e630fdd4c4f
DTSTART:20200610T170000
SEQUENCE:0
TRANSP:OPAQUE
DTEND:20200610T180000
LOCATION:SportplatzSchulstraße  \"Neue Heimat\"
SUMMARY:Kinderlauftreff
CLASS:PUBLIC
DESCRIPTION:Katharina Scharner\, Tel. 0650/999 03 46
DTSTAMP:20260420T155821Z
END:VEVENT
END:VCALENDAR