BEGIN:VCALENDAR
VERSION:2.0
PRODID:ertl.gv.at
X-PUBLISHED-TTL:P1D
BEGIN:VEVENT
UID:69ecb6e93b213
DTSTART:20260501T093000
SEQUENCE:0
TRANSP:OPAQUE
DTEND:20260501T140000
SUMMARY:Maibaum Aufstellen
CLASS:PUBLIC
DTSTAMP:20260425T144321Z
END:VEVENT
BEGIN:VEVENT
UID:69ecb6e93b2a8
DTSTART:20260502T080000
SEQUENCE:0
TRANSP:OPAQUE
DTEND:20260502T120000
LOCATION:Ertl
SUMMARY:Sandkistn auffüllen 
CLASS:PUBLIC
DTSTAMP:20260425T144321Z
END:VEVENT
BEGIN:VEVENT
UID:69ecb6e93b306
DTSTART:20260509T090000
SEQUENCE:0
TRANSP:OPAQUE
DTEND:20260509T110000
SUMMARY:Erstkommunion
CLASS:PUBLIC
DTSTAMP:20260425T144321Z
END:VEVENT
BEGIN:VEVENT
UID:69ecb6e93b365
DTSTART:20260512T090000
SEQUENCE:0
TRANSP:OPAQUE
DTEND:20260512T090000
SUMMARY:E-Bike Kurs
CLASS:PUBLIC
DTSTAMP:20260425T144321Z
END:VEVENT
BEGIN:VEVENT
UID:69ecb6e93b3ba
DTSTART:20260517T100000
SEQUENCE:0
TRANSP:OPAQUE
DTEND:20260517T170000
LOCATION:Ortsgebiet von Ertl
SUMMARY:Kranzlsingen
CLASS:PUBLIC
DTSTAMP:20260425T144321Z
END:VEVENT
BEGIN:VEVENT
UID:69ecb6e93b40e
DTSTART:20260524T140000
SEQUENCE:0
TRANSP:OPAQUE
DTEND:20260524T140000
LOCATION:Haberg - Ertl
SUMMARY:Pfingsandacht Haberg
CLASS:PUBLIC
DTSTAMP:20260425T144321Z
END:VEVENT
BEGIN:VEVENT
UID:69ecb6e93b465
DTSTART:20260529T180000
SEQUENCE:0
TRANSP:OPAQUE
DTEND:20260529T193000
LOCATION:Turnsaal Schule Ertl
SUMMARY:In 60 Minuten um die Welt
CLASS:PUBLIC
DESCRIPTION:Es musizieren Ensembles der Carl Zeller Musikschule\, Standort 
 Ertl und das Jugendblasorchester.
DTSTAMP:20260425T144321Z
END:VEVENT
BEGIN:VEVENT
UID:69ecb6e93b4c0
DTSTART:20260531T083000
SEQUENCE:0
TRANSP:OPAQUE
DTEND:20260531T200000
SUMMARY:Tag der Blasmusik
CLASS:PUBLIC
DTSTAMP:20260425T144321Z
END:VEVENT
BEGIN:VEVENT
UID:69ecb6e93b513
DTSTART:20260606T090000
SEQUENCE:0
TRANSP:OPAQUE
DTEND:20260606T090000
SUMMARY:Pfarrverband Firmung St. Peter/Au
CLASS:PUBLIC
DTSTAMP:20260425T144321Z
END:VEVENT
BEGIN:VEVENT
UID:69ecb6e93b566
DTSTART:20260626T000000
SEQUENCE:0
TRANSP:OPAQUE
DTEND:20260626T000000
SUMMARY:Sonnwendfeuer Gasthaus Großau
CLASS:PUBLIC
DTSTAMP:20260425T144321Z
END:VEVENT
BEGIN:VEVENT
UID:69ecb6e93b5ba
DTSTART:20260704T000000
SEQUENCE:0
TRANSP:OPAQUE
DTEND:20260705T000000
SUMMARY:Dorffest Ertl
CLASS:PUBLIC
DTSTAMP:20260425T144321Z
END:VEVENT
BEGIN:VEVENT
UID:69ecb6e93b60c
DTSTART:20260912T000000
SEQUENCE:0
TRANSP:OPAQUE
DTEND:20260913T000000
LOCATION:Feuerwehrhaus Ertl
SUMMARY:FF-Fest
CLASS:PUBLIC
DESCRIPTION:Fest der Freiwilligen Feuerwehr Ertl
DTSTAMP:20260425T144321Z
END:VEVENT
BEGIN:VEVENT
UID:69ecb6e93b661
DTSTART:20260918T000000
SEQUENCE:0
TRANSP:OPAQUE
DTEND:20260918T000000
SUMMARY:Kabarettabend \"Die Vierkanter\" Glanzstücke
CLASS:PUBLIC
DTSTAMP:20260425T144321Z
END:VEVENT
BEGIN:VEVENT
UID:69ecb6e93b6b3
DTSTART:20260920T080000
SEQUENCE:0
TRANSP:OPAQUE
DTEND:20260920T120000
LOCATION:Ertl 
SUMMARY:Jägermesse Jagd Ertl 
CLASS:PUBLIC
DTSTAMP:20260425T144321Z
END:VEVENT
BEGIN:VEVENT
UID:69ecb6e93b705
DTSTART:20261107T000000
SEQUENCE:0
TRANSP:OPAQUE
DTEND:20261107T000000
SUMMARY:Herbstkonzert Musikverein Ertl
CLASS:PUBLIC
DTSTAMP:20260425T144321Z
END:VEVENT
BEGIN:VEVENT
UID:69ecb6e93b757
DTSTART:20261107T150000
SEQUENCE:0
TRANSP:OPAQUE
DTEND:20261107T235900
LOCATION:Turnsaal der Schule Ertl
SUMMARY:Herbstkonzert - MV Ertl
CLASS:PUBLIC
DESCRIPTION:Am Samstag\, dem 7. November 2026\, ist es wieder so weit – d
 er Musikverein Ertl lädt herzlich zum traditionellen Herbstkonzert ein. \
 n\nDas abwechslungsreiche Programm wird 2-mal aufgeführt - 15 & 20 Uhr\n\
 nFür das leibliche Wohl ist in der Pause und im Anschluss bestens gesorgt
 . \n\nDer Musikverein Ertl freut sich auf Ihren Besuch und einen stimmungs
 vollen musikalischen Herbstabend!
DTSTAMP:20260425T144321Z
END:VEVENT
END:VCALENDAR